BEGIN:VCALENDAR
VERSION:2.0
PRODID:-//ChamberMaster//Event Calendar 2.0//EN
METHOD:PUBLISH
X-PUBLISHED-TTL:P3D
REFRESH-INTERVAL:P3D
CALSCALE:GREGORIAN
BEGIN:VEVENT
DTSTART:20240516T231500Z
DTEND:20240517T000000Z
X-MICROSOFT-CDO-ALLDAYEVENT:FALSE
SUMMARY:The Winchester Institute of Chiropractic Health and Wellness Breathe & Reset
DESCRIPTION:Join our health and wellness coach\, Jackie Bean\, for a relaxing and reflective evening.\n\nRegistration is $30 per person and each session will include: breathing\, visualization\, and reflection/writing prompt to focus on promoting mindfulness.\n\nWear comfortable clothes\; we will sit and lie on yoga mats!
X-ALT-DESC;FMTTYPE=text/html:<p>Join our health and wellness coach\, Jackie Bean\, for a relaxing and reflective evening.</p>\n\n<p>Registration is <strong>$30 per person</strong> and each session will include: breathing\, visualization\, and reflection/writing prompt to focus on promoting mindfulness.</p>\n\n<p>Wear comfortable clothes\; we will sit and lie on yoga mats!</p>\n
LOCATION:The Winchester Institute of Chiropractic Health and Wellness 6425 Post Rd Suite 101 Dublin\, Ohio 43016
UID:e.1632.11162
SEQUENCE:3
DTSTAMP:20260422T141529Z
URL:https://www.dublinchamber.org/events/details/the-winchester-institute-of-chiropractic-health-and-wellness-breathe-reset-11162
END:VEVENT

END:VCALENDAR
