BEGIN:VCALENDAR
VERSION:2.0
PRODID:-//ChamberMaster//Event Calendar 2.0//EN
METHOD:PUBLISH
X-PUBLISHED-TTL:P3D
REFRESH-INTERVAL:P3D
CALSCALE:GREGORIAN
BEGIN:VEVENT
DTSTART:20240523T210000Z
DTEND:20240524T000000Z
X-MICROSOFT-CDO-ALLDAYEVENT:FALSE
SUMMARY:Reclaim Spa Spring Open House
DESCRIPTION:Join us for our very first open house this month!   Get ready for an evening full of luxurious giveaways\, including Botox\, Skinbetter\, fillers\, facial services\, and more!  A fun night out with the girls - everyone will be a winner!  Fun\, Games\, Drinks\, and Food!   Don't miss out on this sweet event - and bring a friend (or 2)!
X-ALT-DESC;FMTTYPE=text/html:Join us for our very first open house this month!&nbsp\; &nbsp\;Get ready for an evening full of luxurious giveaways\, including Botox\, Skinbetter\, fillers\, facial services\, and more!&nbsp\; A fun night out with the girls - everyone will be a winner!&nbsp\; Fun\, Games\, Drinks\, and Food!&nbsp\; &nbsp\;Don&#39\;t miss out on this sweet event - and bring a friend (or 2)!
LOCATION:5150 Bradenton Avenue\, Suite C Dublin\, OH 43017
UID:e.1632.11230
SEQUENCE:3
DTSTAMP:20260422T133057Z
URL:https://www.dublinchamber.org/events/details/reclaim-spring-open-house-11230
END:VEVENT

END:VCALENDAR
