BEGIN:VCALENDAR
VERSION:2.0
PRODID:-//ChamberMaster//Event Calendar 2.0//EN
METHOD:PUBLISH
X-PUBLISHED-TTL:P3D
REFRESH-INTERVAL:P3D
CALSCALE:GREGORIAN
BEGIN:VEVENT
DTSTART:20250826T173000Z
DTEND:20250826T180000Z
X-MICROSOFT-CDO-ALLDAYEVENT:FALSE
SUMMARY:Pet Parade
DESCRIPTION:Pet Parade at Mayfair Village Nursing Care Center. Bring your furry\, feathered\, or even scaled companions and show off their cutest outfits\, silliest tricks or just their adorable selves. Whether you're walking a pet or cheering from the sidelines\, its sure to be a paw-sitively good time for all ages! Call Stephanie at 380-265-6255 to sign up. Must provide vaccination record to participate.
X-ALT-DESC;FMTTYPE=text/html:Pet Parade at Mayfair Village Nursing Care Center. Bring your furry\, feathered\, or even scaled companions and show off their cutest outfits\, silliest tricks or just their adorable selves. Whether you&#39\;re walking a pet or cheering from the sidelines\, its sure to be a paw-sitively good time for all ages! Call Stephanie at 380-265-6255 to sign up. Must provide vaccination record to participate.
LOCATION:Mayfair Village Nursing Care Center 3000 Bethel Rd Columbus\, Ohio 43220
UID:e.1632.12490
SEQUENCE:3
DTSTAMP:20260421T124333Z
URL:https://www.dublinchamber.org/events/details/pet-parade-12490
END:VEVENT

END:VCALENDAR
