BEGIN:VCALENDAR
VERSION:2.0
PRODID:-//ChamberMaster//Event Calendar 2.0//EN
METHOD:PUBLISH
X-PUBLISHED-TTL:P3D
REFRESH-INTERVAL:P3D
CALSCALE:GREGORIAN
BEGIN:VEVENT
DTSTART:20240625T120000Z
DTEND:20240625T130000Z
X-MICROSOFT-CDO-ALLDAYEVENT:FALSE
SUMMARY:Morning Brew Business Breakfast hosted by Haughn & Associates
DESCRIPTION:Start your day off right by joining your friends at the Chamber for the June Morning Brew!\n\n\n\nAt this event\, you'll be treated to a fresh cup of coffee\, a light breakfast and an hour of connecting with other Chamber members and business professionals - all for just $10. \n\n\n\n\n\nNo refunds. By attending a Chamber event you are granting permission to the Dublin Chamber of Commerce\, the Dublin Chamber Civic Foundation and anyone authorized by the Chamber to have unlimited right\, without charge\, to use your likeness in photos\, videos\, recordings and in all media now known or hereafter created to be used and distributed in perpetuity for promotional and publicity purposes. By attending an event you agree to release the Dublin Chamber of Commerce and Dublin Chamber Civic Foundation\, their staff\, board of directors\, members and their partners from any liability.
X-ALT-DESC;FMTTYPE=text/html:<span style="font-family: Cambay\, sans-serif\; font-size: 16px\;">Start your day off right by joining your friends at the Chamber for the June Morning Brew!<br />\n<br />\nAt this event\, you&#39\;ll be treated to a fresh cup of coffee\, a light breakfast and an hour of connecting with other Chamber members and business professionals - all for just $10.&nbsp\;</span><br style="box-sizing: border-box\; font-family: Cambay\, sans-serif\; font-size: 16px\;" />\n<br style="box-sizing: border-box\; font-family: Cambay\, sans-serif\; font-size: 16px\;" />\n<br style="box-sizing: border-box\; font-family: Cambay\, sans-serif\; font-size: 16px\;" />\n<span style="box-sizing: border-box\; font-size: 16px\; font-family: arial\;"><span style="box-sizing: border-box\; font-size: 14px\;"><em style="box-sizing: border-box\;">No refunds. By attending a Chamber event you are granting permission to the Dublin Chamber of Commerce\, the Dublin Chamber Civic Foundation and anyone authorized by the Chamber to have unlimited right\, without charge\, to use your likeness in photos\, videos\, recordings and in all media now known or hereafter created to be used and distributed in perpetuity for promotional and publicity purposes. By attending an event you agree to release the Dublin Chamber of Commerce and Dublin Chamber Civic Foundation\, their staff\, board of directors\, members and their partners from any liability.</em></span></span>
LOCATION:Haughn & Associates 6050 Tain Dr.\, Dublin
UID:e.1632.11015
SEQUENCE:3
DTSTAMP:20260422T121211Z
URL:https://www.dublinchamber.org/events/details/morning-brew-business-breakfast-hosted-by-haughn-associates-11015
END:VEVENT

END:VCALENDAR
