BEGIN:VCALENDAR
VERSION:2.0
PRODID:-//ChamberMaster//Event Calendar 2.0//EN
METHOD:PUBLISH
X-PUBLISHED-TTL:P3D
REFRESH-INTERVAL:P3D
CALSCALE:GREGORIAN
BEGIN:VEVENT
DTSTART:20250702T173000Z
DTEND:20250702T193000Z
X-MICROSOFT-CDO-ALLDAYEVENT:FALSE
SUMMARY:Mayfair Village Nursing Care Center - KONA ICE POP UP EVENT
DESCRIPTION:Mayfair Village Nursing Care Center will be hosting a pop-up event with KONA ICE. Event will take place at 3000 Bethel Rd\, Columbus\, Ohio 43220 in the front parking lot. Stop by and cool off with a sweet summer treat. Sno cones are $4-$7. Cash and credit are accepted.
X-ALT-DESC;FMTTYPE=text/html:Mayfair Village Nursing Care Center will be hosting a pop-up event with KONA ICE. Event will take place at 3000 Bethel Rd\, Columbus\, Ohio 43220 in the front parking lot. Stop by and cool off with a sweet summer treat. Sno cones are $4-$7. Cash and credit are accepted.
LOCATION:3000 Bethel Rd\, Columbus\, Ohio 43220
UID:e.1632.12479
SEQUENCE:3
DTSTAMP:20260421T141954Z
URL:https://www.dublinchamber.org/events/details/mayfair-village-nursing-care-center-kona-ice-pop-up-event-12479
END:VEVENT

END:VCALENDAR
