BEGIN:VCALENDAR
VERSION:2.0
PRODID:-//ChamberMaster//Event Calendar 2.0//EN
METHOD:PUBLISH
X-PUBLISHED-TTL:P3D
REFRESH-INTERVAL:P3D
CALSCALE:GREGORIAN
BEGIN:VEVENT
DTSTART:20250816T200000Z
DTEND:20250817T000000Z
X-MICROSOFT-CDO-ALLDAYEVENT:FALSE
SUMMARY:Japan FestOH!
DESCRIPTION:Join us on Saturday\, August 16th at Riverside Crossing Park in Dublin\, Ohio for our annual Japan FestOH! 2025 (formerly known as the Summer Festival / Obon Festival)! Experience the vibrant culture of Japan through exciting stage performances\, interactive workshops\, cultural displays\, sake tasting and a wide variety of vendors offering delicious food\, crafts\, and more. Whether you're a long-time fan of Japanese culture or just curious to learn more\, there's something for everyone.\n\nJapan FestOH! is hosted by the Japan-America Society of Central Ohio (JASCO)\, a registered 501(c)(3) nonprofit organization dedicated to promoting mutual understanding between Japan and the U.S.\n\nDon't miss this fun-filled day celebrating the spirit of Japan right here in Central Ohio!
X-ALT-DESC;FMTTYPE=text/html:<p>Join us on&nbsp\;<strong>Saturday\, August 16th</strong>&nbsp\;at&nbsp\;<strong>Riverside Crossing Park in Dublin\, Ohio</strong>&nbsp\;for our annual&nbsp\;<a href="https://www.jascentralohio.org/summer-festival-japanfestoh" rel="nofollow" style="box-sizing: border-box\; background-color: transparent\; color: rgb(51\, 122\, 183)\; text-decoration-line: none\; text-shadow: none\;"><strong>Japan FestOH! 2025</strong>&nbsp\;(</a>formerly known as the Summer Festival / Obon Festival)! Experience the vibrant culture of Japan through exciting stage performances\, interactive workshops\, cultural displays\, sake tasting and a wide variety of vendors offering delicious food\, crafts\, and more. Whether you&#39\;re a long-time fan of Japanese culture or just curious to learn more\, there&#39\;s something for everyone.</p>\n\n<p><strong>Japan FestOH!</strong>&nbsp\;is hosted by the&nbsp\;<a href="https://www.jascentralohio.org/" rel="nofollow" style="box-sizing: border-box\; background-color: transparent\; color: rgb(51\, 122\, 183)\; text-decoration-line: none\; text-shadow: none\;"><strong>Japan-America Society of Central Ohio (JASCO)</strong></a>\, a registered 501(c)(3) nonprofit organization dedicated to promoting mutual understanding between Japan and the U.S.</p>\n\n<p><strong>Don&#39\;t miss this fun-filled day celebrating the spirit of Japan&mdash\;right here in Central Ohio!</strong></p>\n
LOCATION:Riverside Crossing Park in Dublin\, Ohio.
UID:e.1632.12489
SEQUENCE:3
DTSTAMP:20260421T135917Z
URL:https://www.dublinchamber.org/events/details/japan-festoh-12489
END:VEVENT

END:VCALENDAR
