BEGIN:VCALENDAR
VERSION:2.0
PRODID:-//ChamberMaster//Event Calendar 2.0//EN
METHOD:PUBLISH
X-PUBLISHED-TTL:P3D
REFRESH-INTERVAL:P3D
CALSCALE:GREGORIAN
BEGIN:VEVENT
DTSTART;VALUE=DATE:20250704
DTEND;VALUE=DATE:20250705
TRANSP:TRANSPARENT
X-MICROSOFT-CDO-ALLDAYEVENT:TRUE
SUMMARY:Dublin's Independence Day Celebration
DESCRIPTION:Join us this 4th of July for the 2025 Independence Day Celebrations in Dublin!\n\n\n\n8 a.m. \n\nAnnual Sherm Sheldon Fishing Derby\n\nAvery Park Pond\, 7401 Avery Rd.\n\n\n\n11 a.m.\n\nIndependence Day Parade\n\nHistoric Dublin\, 1 W. Bridge St.\n\n\n\n4:30 p.m.\n\nEvening Celebration with Live Music & Entertainment\n\nDublin Coffman High School Stadium\, 6780 Coffman Rd.\n\nFeaturing the Dublin Cornet Band at 4:45 p.m.\, Kansas at 6:15 p.m.\, and 38 Special at 8:15 p.m.\n\n\n\n9:50 p.m.\n\nFireworks show\n\nDublin Coffman High School Stadium\, 6780 Coffman Rd.\n\n\n\n\n\nFor more information and details\, go to Independence Day Celebration   City of Dublin\, Ohio\, USA
X-ALT-DESC;FMTTYPE=text/html:<strong><em>Join us this 4th of July for the 2025 Independence Day Celebrations in Dublin!</em></strong><br />\n<br />\n8 a.m.&nbsp\;<br />\nAnnual Sherm Sheldon Fishing Derby<br />\nAvery Park Pond\, 7401 Avery Rd.<br />\n<br />\n11 a.m.<br />\nIndependence Day Parade<br />\nHistoric Dublin\, 1 W. Bridge St.<br />\n<br />\n4:30 p.m.<br />\nEvening Celebration with Live Music &amp\; Entertainment<br />\nDublin Coffman High School Stadium\, 6780 Coffman Rd.<br />\nFeaturing the <strong>Dublin Cornet Band at 4:45 p.m.\, Kansas at 6:15 p.m.\, and 38 Special at 8:15 p.m.</strong><br />\n<br />\n9:50 p.m.<br />\nFireworks show<br />\nDublin Coffman High School Stadium\, 6780 Coffman Rd.<br />\n<br />\n<br />\nFor more information and details\, go to&nbsp\;<a href="https://dublinohiousa.gov/community-events/independence-day-celebration/">Independence Day Celebration &ndash\; City of Dublin\, Ohio\, USA</a>
LOCATION:
UID:e.1632.12478
SEQUENCE:3
DTSTAMP:20260421T135951Z
URL:https://www.dublinchamber.org/events/details/dublin-s-independence-day-celebration-12478
END:VEVENT

END:VCALENDAR
