BEGIN:VCALENDAR
VERSION:2.0
PRODID:-//ChamberMaster//Event Calendar 2.0//EN
METHOD:PUBLISH
X-PUBLISHED-TTL:P3D
REFRESH-INTERVAL:P3D
CALSCALE:GREGORIAN
BEGIN:VEVENT
DTSTART:20240506T200000Z
DTEND:20240506T220000Z
X-MICROSOFT-CDO-ALLDAYEVENT:FALSE
SUMMARY:Deka Lash Ribbon Cutting!
DESCRIPTION:You're invited to a special Ribbon Cutting event at Deka Lash\, 7589 Sawmill Rd.\, in Dublin!\n\n\n\nThis exciting ceremony will include complimentary food and beverages and of course\, the ribbon cutting! Stop by to see the beautiful building and congratulate our friends at Deka Lash on this much-anticipated event.\n\n\n\nMonday\, May 6\, 2024\, 6 p.m.\n\n7589 Sawmill Rd.\, Dublin
X-ALT-DESC;FMTTYPE=text/html:<br />\n<br />\n<span style="font-family: arial\; font-size: 16px\;">You&#39\;re invited to a special Ribbon Cutting event at Deka Lash\, </span><span style="font-size:16px\;"><span style="font-family:arial\;">7589 Sawmill Rd</span></span><span style="font-family: arial\; font-size: 16px\;">.\, in Dublin!</span><br style="font-family: arial\; font-size: 16px\;" />\n<br style="font-family: arial\; font-size: 16px\;" />\n<span style="font-family: arial\; font-size: 16px\;">This exciting ceremony will include</span><span style="font-size:16px\;">&nbsp\;complimentary food and beverages&nbsp\;and </span><span style="font-family: arial\; font-size: 16px\;">of course\, the ribbon cutting! Stop by to see the beautiful building and congratulate our friends at Deka Lash on this much-anticipated event.</span><br style="font-family: arial\; font-size: 16px\;" />\n<br style="font-family: arial\; font-size: 16px\;" />\n<span style="font-family: arial\; font-size: 16px\;">Monday\, May 6\, 2024\, 6 p.m.</span><br style="font-family: arial\; font-size: 16px\;" />\n<span style="font-size: 16px\;"><span style="font-family: arial\;">7589 Sawmill Rd</span></span><span style="font-family: arial\; font-size: 16px\;">.\, Dublin</span><br />\n&nbsp\;
LOCATION:Deka Lash 7589 Sawmill Rd.\, Dublin
UID:e.1632.11224
SEQUENCE:3
DTSTAMP:20260422T141229Z
URL:https://www.dublinchamber.org/events/details/deka-lash-ribbon-cutting-11224
END:VEVENT

END:VCALENDAR
