BEGIN:VCALENDAR
VERSION:2.0
PRODID:-//ChamberMaster//Event Calendar 2.0//EN
METHOD:PUBLISH
X-PUBLISHED-TTL:P3D
REFRESH-INTERVAL:P3D
CALSCALE:GREGORIAN
BEGIN:VEVENT
DTSTART:20250604T190000Z
DTEND:20250604T200000Z
X-MICROSOFT-CDO-ALLDAYEVENT:FALSE
SUMMARY:Corporate Charity Cup Event Lead Training
DESCRIPTION:Thank you for volunteering to serve as an Event Lead for the Corporate Charity Cup on Thursday\, June 12 at Marriott Columbus Northwest from 4 pm to 8 pm and/or Friday\, June 13 at Dublin Coffman High School from 8 am to 5 pm.\n\n\n\nIf you are a game sponsor and you have arranged for another person from your organization to lead the game\, please forward this information so that they may join us as well.\n\n\n\nThank you again for volunteering your time to help make this a successful event for everyone.  We could not do this without you!
X-ALT-DESC;FMTTYPE=text/html:<span style="font-size:14px\;"><span style="font-family:arial\;">Thank you for volunteering to serve as an Event Lead for the Corporate Charity Cup on Thursday\, June 12 at Marriott Columbus Northwest from 4 pm to 8 pm and/or Friday\, June 13 at Dublin Coffman High School from 8 am to 5 pm.<br />\n<br />\n<strong>If you are a game sponsor and you have arranged for another person from your organization to lead the game\, please forward this information so that they may join us as well.</strong><br />\n<br />\nThank you again for volunteering your time to help make this a successful event for everyone.&nbsp\; We could not do this without you!</span></span>
LOCATION:Dublin Chamber Office 129 S High St.\, Dublin
UID:e.1632.12445
SEQUENCE:3
DTSTAMP:20260420T142712Z
URL:https://www.dublinchamber.org/events/details/corporate-charity-cup-event-lead-training-12445
END:VEVENT

END:VCALENDAR
