BEGIN:VCALENDAR
VERSION:2.0
PRODID:-//ChamberMaster//Event Calendar 2.0//EN
METHOD:PUBLISH
X-PUBLISHED-TTL:P3D
REFRESH-INTERVAL:P3D
CALSCALE:GREGORIAN
BEGIN:VEVENT
DTSTART:20260428T133000Z
DTEND:20260428T143000Z
X-MICROSOFT-CDO-ALLDAYEVENT:FALSE
SUMMARY:Chicken Salad Chick Dublin Grand Opening and Ribbon Cutting
DESCRIPTION:Join us at Chicken Salad Chick Dublin\, 4345 W Dublin Granville Rd.\, Dublin at 9:30 am for their grand opening and ribbon cutting ceremony!
X-ALT-DESC;FMTTYPE=text/html:<span style="font-size:14px\;"><span style="font-family:arial\;">Join us at <strong>Chicken Salad Chick Dublin</strong>\,&nbsp\;4345 W Dublin Granville Rd.\, Dublin at 9:30 am for their grand opening and ribbon cutting ceremony!</span></span>
LOCATION:Chicken Salad Chick Dublin 4345 W Dublin Granville Rd.\, Dublin
UID:e.1632.12721
SEQUENCE:3
DTSTAMP:20260424T165543Z
URL:https://www.dublinchamber.org/events/details/chicken-salad-chick-dublin-grand-opening-and-ribbon-cutting-12721
END:VEVENT

END:VCALENDAR
