BEGIN:VCALENDAR
VERSION:2.0
PRODID:-//ChamberMaster//Event Calendar 2.0//EN
METHOD:PUBLISH
X-PUBLISHED-TTL:P3D
REFRESH-INTERVAL:P3D
CALSCALE:GREGORIAN
BEGIN:VEVENT
DTSTART:20250515T150000Z
DTEND:20250515T170000Z
X-MICROSOFT-CDO-ALLDAYEVENT:FALSE
SUMMARY:Central Ohio Mental Health Professionals CEU Luncheon - Social Anxiety Disorder: If Junior High Was a Diagnosis
DESCRIPTION:A Learning Luncheon and social / networking event for Central Ohio Mental Health Professionals\, hosted by Kaela Rae Vance LPCC-S\, LLC\, spotlighting featured presenter\, Jonathan Miller\, LPCC-S. At this luncheon\, Jonathan will be providing us with a presentation entitled "Social Anxiety Disorder: If Junior High Was a Diagnosis". Must register to attend: https://www.tealsaguaro.com/events
X-ALT-DESC;FMTTYPE=text/html:<p style="text-align:initial">A Learning Luncheon and social / networking event for Central Ohio Mental Health Professionals\, hosted by <a class="i9WLr CmCxT" href="https://www.kaelaraevance.com/" rel="noopener noreferrer" style="background: rgba(0\, 0\, 0\, 0)\; border: 0px\; margin: 0px\; outline: 0px\; padding: 0px\; vertical-align: baseline\; cursor: pointer\; text-decoration-line: none\; text-decoration-style: solid\; text-decoration-color: rgb(75\, 209\, 160)\; -webkit-tap-highlight-color: rgba(0\, 0\, 0\, 0)\; color: rgb(75\, 209\, 160)\; line-height: 1.5\; min-height: auto\; box-sizing: inherit\;" target="_blank">Kaela Rae Vance LPCC-S\, LLC</a>\, spotlighting featured presenter\, <a class="i9WLr CmCxT" href="https://millercounselingllc.com/" rel="noopener noreferrer" style="background: rgba(0\, 0\, 0\, 0)\; border: 0px\; margin: 0px\; outline: 0px\; padding: 0px\; vertical-align: baseline\; cursor: pointer\; text-decoration-line: none\; text-decoration-style: solid\; text-decoration-color: rgb(75\, 209\, 160)\; -webkit-tap-highlight-color: rgba(0\, 0\, 0\, 0)\; color: rgb(75\, 209\, 160)\; line-height: 1.5\; min-height: auto\; box-sizing: inherit\;" target="_blank"><u>Jonathan Miller\, LPCC-S</u></a>. At this luncheon\, Jonathan will be providing us with a presentation entitled &quot\;Social Anxiety Disorder: If Junior High Was a Diagnosis&quot\;.&nbsp\;Must register to attend:&nbsp\;https://www.tealsaguaro.com/events</p>\n
LOCATION:555 Metro Place North\, Dublin\, Ohio 43017 (Must register to attend: https://www.tealsaguaro.com/events).
UID:e.1632.12444
SEQUENCE:3
DTSTAMP:20260421T174848Z
URL:https://www.dublinchamber.org/events/details/central-ohio-mental-health-professionals-ceu-luncheon-12444
END:VEVENT

END:VCALENDAR
