BEGIN:VCALENDAR
VERSION:2.0
PRODID:-//ChamberMaster//Event Calendar 2.0//EN
METHOD:PUBLISH
X-PUBLISHED-TTL:P3D
REFRESH-INTERVAL:P3D
CALSCALE:GREGORIAN
BEGIN:VEVENT
DTSTART:20250828T113000Z
DTEND:20250828T131500Z
X-MICROSOFT-CDO-ALLDAYEVENT:FALSE
SUMMARY:Business Impact Breakfast with Dublin\, Union County\, and Logan County Chambers of Commerce
DESCRIPTION:Dublin Chamber members are invited to a Multi-Chamber Business Impact Breakfast at the Automotive & Mobility Innovation Center. Join us for an exciting morning as we explore the future of Smart Mobility with updates on the 33 SMART Corridor and the Beta District. Hosted at the state-of-the-art Automotive & Mobility Innovation Center\, this event will feature updates from Honda\, TRC\, and the Beta District.\n\n\n\nAGENDA\n\n\n	7:30 am to 8 am - Networking and Breakfast\n	8 am - Welcome/Introductions/Chamber Updates\n	\n		Dublin Chamber President\n		Logan County Chamber President\n		Union County Chamber President\n	\n	\n	8:15 am - Beta District Update - Doug McCollough\, Executive Director\, Beta District\n	8:30 am - Lextant Introduction and AMIC Update\n	8:40 am - Transportation Research Center \n	8:55 am - Honda Update - Jeff Reed\, Honda Development and Manufacturing of America\n	9:10 am - Questions/Answers\n	9:15 am - Adjourn\n\nEnjoy an exclusive tour of the facility\, discovering the technologies driving the automotive and mobility sectors forward. Connect with fellow Chamber members and business professionals from neighboring chambers\, sharing insights and building valuable relationships. Start your day with a delightful breakfast and freshly brewed coffee\, provided for all guests.\n\n\n\nRSVP today! Don't miss this opportunity to gain valuable insights\, connect with industry leaders\, and be part of a forward-thinking community focused on innovation and progress. We look forward to welcoming you to this impactful event. See you there!\n\n\n\nSPEAKERS\n\n\n	Doug McCollough\, Executive Director of the NW 33 Innovation Corridor Council of Governments (COG)\n	JD Johnson and Craig Kavicky\, Vice Presidents\, Client Services of Lextant\n	Jeff Reed\, Government & Industry Relations\, Midwest Region\, American Honda Motor Co.\n	Jen Dunn\, Director of Marketing & External Affairs at Transportation Research Center (TRC)and Michelle Fowler\, Director of Applied Research at TRC\n\n	 \n\nNo refunds. By attending a Chamber event you are granting permission to the Dublin Chamber of Commerce\, the Dublin Chamber Civic Foundation and anyone authorized by the Chamber to have unlimited right\, without charge\, to use your likeness in photos\, videos\, recordings and in all media now known or hereafter created to be used and distributed in perpetuity for promotional and publicity purposes. By attending an event you agree to release the Dublin Chamber of Commerce and Dublin Chamber Civic Foundation\, their staff\, board of directors\, members and their partners from any liability.
X-ALT-DESC;FMTTYPE=text/html:<p><span style="font-size:14px\;"><span style="font-family:arial\;">Dublin Chamber members are invited to a Multi-Chamber Business Impact Breakfast at the Automotive &amp\; Mobility Innovation Center. Join us for an exciting morning as we explore the future of Smart Mobility with updates on the 33 SMART Corridor and the Beta District. Hosted at the state-of-the-art Automotive &amp\; Mobility Innovation Center\, this event will feature updates from Honda\, TRC\, and the Beta District.<br />\n<br />\nAGENDA</span></span></p>\n\n<ul>\n	<li><span style="font-size:14px\;"><span style="font-family:arial\;">7:30 am to 8 am - Networking and Breakfast</span></span></li>\n	<li><span style="font-size:14px\;"><span style="font-family:arial\;">8 am - Welcome/Introductions/Chamber Updates</span></span>\n	<ul>\n		<li><span style="font-size:14px\;"><span style="font-family:arial\;">Dublin Chamber President</span></span></li>\n		<li><span style="font-size:14px\;"><span style="font-family:arial\;">Logan County Chamber President</span></span></li>\n		<li><span style="font-size:14px\;"><span style="font-family:arial\;">Union County Chamber President</span></span></li>\n	</ul>\n	</li>\n	<li><span style="font-size:14px\;"><span style="font-family:arial\;">8:15 am - Beta District Update - Doug McCollough\, Executive Director\, Beta District</span></span></li>\n	<li><span style="font-size:14px\;"><span style="font-family:arial\;">8:30 am - Lextant Introduction and AMIC Update</span></span></li>\n	<li><span style="font-size:14px\;"><span style="font-family:arial\;">8:40 am - Transportation Research Center&nbsp\;</span></span></li>\n	<li><span style="font-size:14px\;"><span style="font-family:arial\;">8:55 am - Honda Update - Jeff Reed\, Honda Development and Manufacturing of America</span></span></li>\n	<li><span style="font-size:14px\;"><span style="font-family:arial\;">9:10 am - Questions/Answers</span></span></li>\n	<li><span style="font-size:14px\;"><span style="font-family:arial\;">9:15 am - Adjourn</span></span></li>\n</ul>\n<span style="font-size:14px\;"><span style="font-family:arial\;">Enjoy an exclusive tour of the facility\, discovering the technologies driving the automotive and mobility sectors forward. Connect with fellow Chamber members and business professionals from neighboring chambers\, sharing insights and building valuable relationships. Start your day with a delightful breakfast and freshly brewed coffee\, provided for all guests.<br style="font-size: 16px\;" />\n<br style="font-size: 16px\;" />\nRSVP today! Don&#39\;t miss this opportunity to gain valuable insights\, connect with industry leaders\, and be part of a forward-thinking community focused on innovation and progress. We look forward to welcoming you to this impactful event. See you there!</span></span><br />\n<br />\n<span style="font-family: arial\; font-size: 14px\;">SPEAKERS</span>\n\n<ul>\n	<li><span style="font-size:14px\;"><span style="font-family:arial\;">Doug McCollough\, Executive Director of the NW 33 Innovation Corridor Council of Governments (COG)</span></span></li>\n	<li><span style="font-size:14px\;"><span style="font-family:arial\;">JD Johnson and Craig Kavicky\, Vice Presidents\, Client Services of Lextant</span></span></li>\n	<li><span style="font-size:14px\;"><span style="font-family:arial\;">Jeff Reed\, Government &amp\; Industry Relations\, Midwest Region\, American Honda Motor Co.</span></span></li>\n	<li><span style="font-size:14px\;"><span style="font-family:arial\;">Jen Dunn\, Director of Marketing &amp\; External Affairs at Transportation Research Center (TRC)and Michelle Fowler\, Director of Applied Research at TRC</span></span><br />\n	&nbsp\;</li>\n</ul>\n<em style="font-family: arial\; font-size: 14px\; box-sizing: border-box\;">No refunds. By attending a Chamber event you are granting permission to the Dublin Chamber of Commerce\, the Dublin Chamber Civic Foundation and anyone authorized by the Chamber to have unlimited right\, without charge\, to use your likeness in photos\, videos\, recordings and in all media now known or hereafter created to be used and distributed in perpetuity for promotional and publicity purposes. By attending an event you agree to release the Dublin Chamber of Commerce and Dublin Chamber Civic Foundation\, their staff\, board of directors\, members and their partners from any liability.</em>
LOCATION:Automotive & Mobility Innovation Center (AMIC) 1100 Innovation Way\, Ste. D Marysville\, Ohio 43040
UID:e.1632.12488
SEQUENCE:3
DTSTAMP:20260421T140145Z
URL:https://www.dublinchamber.org/events/details/business-impact-breakfast-with-dublin-union-county-and-logan-county-chambers-of-commerce-08-28-2025-12488
END:VEVENT

END:VCALENDAR
