BEGIN:VCALENDAR
VERSION:2.0
PRODID:-//ChamberMaster//Event Calendar 2.0//EN
METHOD:PUBLISH
X-PUBLISHED-TTL:P3D
REFRESH-INTERVAL:P3D
CALSCALE:GREGORIAN
BEGIN:VEVENT
DTSTART:20250713T120000Z
DTEND:20250713T143000Z
X-MICROSOFT-CDO-ALLDAYEVENT:FALSE
SUMMARY:Alpha Group Zoom Duck Derby Presented by Alluvial Private Wealth
DESCRIPTION:Join The Alpha Group for our 9th annual Zoom Duck Derby presented by Alluvial Private Wealth!\n\n \n\nOn Sunday\, July 13 we will dump 7\,000 rubber ducks into the lazy river at Zoombezi Bay to raise money for people with disabilities in central Ohio and beyond. The first three ducks to swim across the finish line WIN CASH UP TO $1\,500!\n\n \n\nHow to Participate:\n\n\n	Buy a derby duck for $5. Or buy a package and get some free ducks!\n	Attend the event with an Adult Waddles Pass $30 or a Kids' Duckling Pass $20\n	\n		1 Duck Derby entry (included with an adult pass)\n		All day entry into Zoombezi Bay and The Columbus Zoo & Aquarium\n		Free Parking\n		Kids' Zone with games\, small prizes and crafts\n		Goodie bag while supplies last\n		Enjoy 90-minutes in the wave pool and select water attractions before the park opens to the public.\n	\n	\n\n\n*You don't have to be present to win   buy why miss the fun? \n\n\n\nCLICK HERE TO BUY YOUR DUCKS OR WADDLES PASS.\n\n \n\n*Kids ages 3 and under are FREE.\n\n*If you have a season pass to Zoombezi Bay\, your admission to Zoom Duck Derby is free with a $5 duck. Please contact chelsieholmes@alphagroup.net to register.\n\n\n\nQuestions? Contact chelsieholmes@alphagroup.net\n\n \n\nBUY A DUCK AND SUPPORT PEOPLE WITH DISABILITIES!\n\n\n\nClick here to visit the Zoom Duck Derby website.\n\n\n\nClick here to visit The Alpha Group's website.\n\n______________\n\n\n\nAbout Us\n\n \n\nSince 1970\, The Alpha Group\, a 501 (c) (3) nonprofit agency\, has provided gainful employment\, quality rehabilitation\, and adult day support services to individuals with disabilities in Delaware and surrounding counties.\n\n\n\nAlpha is committed to the belief that people with disabilities have the same rights and responsibilities as all people\; notably\, the right to participate in their community. Services and supports that enhance and provide additional life choices to individuals should be accessible.\n\n \n\nAlpha participates in partnerships and flexible agreements to provide individualized services and support that are based on their needs\, wants\, and desires.
X-ALT-DESC;FMTTYPE=text/html:<div>\n<div><span style="color:#000000"><strong>Join The Alpha Group for our 9th annual Zoom Duck Derby presented by Alluvial Private Wealth!</strong></span></div>\n\n<div>&nbsp\;</div>\n\n<div><span style="color:#000000"><strong>On Sunday\, July 13 we will dump 7\,000 rubber ducks into the lazy river at Zoombezi Bay to raise money for people with disabilities in central Ohio and beyond. The first three ducks to swim across the finish line WIN CASH UP TO $1\,500!</strong></span></div>\n\n<div>&nbsp\;</div>\n\n<div><span style="color:#000000"><strong>How to Participate:</strong></span></div>\n\n<ul>\n	<li><span style="color:#000000">Buy a derby duck for $5.&nbsp\;<em>Or buy a package and get some free ducks!</em></span></li>\n	<li><span style="color:#000000">Attend the event with an Adult Waddles Pass $30 or a Kids&#39\; Duckling Pass $20</span>\n	<ul>\n		<li><span style="color:#000000">1 Duck Derby entry (included with an adult pass)</span></li>\n		<li><span style="color:#000000">All day entry into Zoombezi Bay and The Columbus Zoo &amp\; Aquarium</span></li>\n		<li><span style="color:#000000">Free Parking</span></li>\n		<li><span style="color:#000000">Kids&#39\; Zone with games\, small prizes and crafts</span></li>\n		<li><span style="color:#000000">Goodie bag while supplies last</span></li>\n		<li><span style="color:#000000">Enjoy 90-minutes in the wave pool and select water attractions before the park opens to the public.</span></li>\n	</ul>\n	</li>\n</ul>\n\n<div><span style="color:#000000"><strong>*You don&rsquo\;t have to be present to win &ndash\; buy why miss the fun?&nbsp\;</strong></span><br />\n<br />\n<span style="color:rgb(7\, 130\, 193)"><strong><a class="OWAAutoLink" href="https://givebutter.com/waddles25" id="OWA28fe7972-a7b0-7c20-2b43-8d93cd0465f9" style="border: 0px\; font: inherit\; margin: 0px\; padding: 0px\; vertical-align: baseline\;">CLICK HERE TO BUY YOUR DUCKS OR WADDLES PASS.</a></strong></span></div>\n\n<div>&nbsp\;</div>\n\n<div><span style="color:#000000">*Kids ages 3 and under are FREE.</span><br />\n<em><span style="color:#000000">*If you have a season pass to Zoombezi Bay\, your admission to Zoom Duck Derby is free with a $5 duck. Please contact</span>&nbsp\;</em><span style="color:rgb(7\, 130\, 193)"><em><a class="OWAAutoLink" href="mailto:chelsieholmes@alphagroup.net ?subject=Season%20Pass%20Zoombezi%20Bay%20Admission" id="OWA668a15fe-196c-f67f-4451-d28ebbc1e7c4" style="border: 0px\; font: inherit\; margin: 0px\; padding: 0px\; vertical-align: baseline\;">chelsieholmes@alphagroup.net&nbsp\;</a></em></span><span style="color:#000000"><em>to register.</em></span><br />\n<br />\n<span style="color:#000000">Questions? Contact</span>&nbsp\;<span style="color:rgb(7\, 130\, 193)"><a class="OWAAutoLink" href="mailto:chelsieholmes@alphagroup.net" id="OWAfce15b67-0e82-57e3-b08e-15c3d625a675" style="border: 0px\; font: inherit\; margin: 0px\; padding: 0px\; vertical-align: baseline\;">chelsieholmes@alphagroup.net</a></span></div>\n\n<div>&nbsp\;</div>\n\n<div><span style="color:rgb(255\, 140\, 0)"><strong>BUY A DUCK AND SUPPORT PEOPLE WITH DISABILITIES!</strong></span><br />\n<br />\n<span style="color:rgb(7\, 130\, 193)"><strong><a class="OWAAutoLink" href="https://www.duckrace.com/delaware" id="OWA3652063f-a3e1-a721-64f2-056c90d2d6f1" style="border: 0px\; font: inherit\; margin: 0px\; padding: 0px\; vertical-align: baseline\;">Click here</a></strong></span><strong>&nbsp\;to visit the Zoom Duck Derby website.</strong><br />\n<br />\n<span style="color:rgb(7\, 130\, 193)"><strong><a class="OWAAutoLink" href="https://alphagroup.net/events/zoom-duck-derby/" id="OWAd8989df3-1107-9315-7be3-55d305edf5eb" style="border: 0px\; font: inherit\; margin: 0px\; padding: 0px\; vertical-align: baseline\;">Click here</a></strong></span><strong>&nbsp\;to visit The Alpha Group&#39\;s website.</strong></div>\n\n<div><em>______________<br />\n<br />\n<span style="color:#000000">About Us</span></em><br />\n&nbsp\;</div>\n\n<div><span style="color:#000000"><em>Since 1970\, The Alpha Group\, a 501 (c) (3) nonprofit agency\, has provided gainful employment\, quality rehabilitation\, and adult day support services to individuals with disabilities in Delaware and surrounding counties.</em></span></div>\n\n<div><br />\n<span style="color:#000000"><em>Alpha is committed to the belief that people with disabilities have the same rights and responsibilities as all people\; notably\, the right to participate in their community. Services and supports that enhance and provide additional life choices to individuals should be accessible.</em></span><br />\n&nbsp\;</div>\n\n<div><span style="color:#000000"><em>Alpha participates in partnerships and flexible agreements to provide individualized services and support that are based on their needs\, wants\, and desires.</em></span></div>\n</div>\n
LOCATION:Zoombezi Bay 4850 Powell Rd\, Powell\, OH 43065
UID:e.1632.12451
SEQUENCE:3
DTSTAMP:20260421T141745Z
URL:https://www.dublinchamber.org/events/details/alpha-group-zoom-duck-derby-presented-by-alluvial-private-wealth-12451
END:VEVENT

END:VCALENDAR
