BEGIN:VCALENDAR
VERSION:2.0
PRODID:-//ChamberMaster//Event Calendar 2.0//EN
METHOD:PUBLISH
X-PUBLISHED-TTL:P3D
REFRESH-INTERVAL:P3D
CALSCALE:GREGORIAN
BEGIN:VEVENT
DTSTART:20240616T120000Z
DTEND:20240616T140000Z
X-MICROSOFT-CDO-ALLDAYEVENT:FALSE
SUMMARY:337 W Bridge St or 6830 Perimeter Loop McDonald's giving Free McMuffin Sandwich for Dad's
DESCRIPTION:Calling all dads! Stop by either 337 W Bridge St or 6830 Perimeter Loop McDonald's for a free McMuffin Sandwich on Sunday June 16 from 8- 10 am.\n\n\n\nWe hope to see you there!
X-ALT-DESC;FMTTYPE=text/html:<br />\nCalling all dads! Stop by either 337 W Bridge St or 6830 Perimeter Loop McDonald&#39\;s for a free McMuffin Sandwich on Sunday June 16 from 8- 10 am.<br />\n<br />\nWe hope to see you there!&nbsp\;
LOCATION:337 W Bridge St or 6830 Perimeter Loop
UID:e.1632.12095
SEQUENCE:3
DTSTAMP:20260422T121211Z
URL:https://www.dublinchamber.org/events/details/337-w-bridge-st-or-6830-perimeter-loop-mcdonald-s-giving-free-mcmuffin-sandwich-for-dad-s-12095
END:VEVENT

END:VCALENDAR
