BEGIN:VCALENDAR
VERSION:2.0
PRODID:-//ChamberMaster//Event Calendar 2.0//EN
METHOD:PUBLISH
X-PUBLISHED-TTL:P3D
REFRESH-INTERVAL:P3D
CALSCALE:GREGORIAN
BEGIN:VEVENT
DTSTART:20260305T150000Z
DTEND:20260305T160000Z
X-MICROSOFT-CDO-ALLDAYEVENT:FALSE
SUMMARY:2026 Corporate Charity Cup Team Captain and Informational Meeting
DESCRIPTION:Team Captains join us for this important meeting where we'll discuss the details of the 2026 Corporate Charity Cup and the deadlines for turning in team rosters\, t-shirt orders\, and more.\n\nPlease register to attend and reach out to the Chamber with any questions at (614) 889-2001.
X-ALT-DESC;FMTTYPE=text/html:<p style="box-sizing: border-box\; margin: 0px 0px 1rem\; font-family: Cambay\, sans-serif\; font-size: 16px\;"><span style="box-sizing: border-box\; font-family: arial\;">Team Captains&nbsp\;join us for this important meeting where we&#39\;ll discuss the details of the 2026&nbsp\;Corporate Charity Cup and the deadlines for turning in team rosters\, t-shirt orders\, and more.</span></p>\n\n<p style="box-sizing: border-box\; margin: 0px 0px 1rem\; font-family: Cambay\, sans-serif\; font-size: 16px\;"><span style="box-sizing: border-box\; font-family: arial\;"><big style="box-sizing: border-box\;"><span style="box-sizing: border-box\; font-size: 16px\;">Please register to attend and reach out to the Chamber with any questions at (614) 889-2001.</span></big></span></p>\n
LOCATION:Dublin Chamber of Commerce 129 S. High St.\, Dublin
UID:e.1632.12633
SEQUENCE:3
DTSTAMP:20260421T020325Z
URL:https://www.dublinchamber.org/events/details/2026-corporate-charity-cup-team-captain-and-informational-meeting-12633
END:VEVENT

END:VCALENDAR
