BEGIN:VCALENDAR
VERSION:2.0
PRODID:-//ChamberMaster//Event Calendar 2.0//EN
METHOD:PUBLISH
X-PUBLISHED-TTL:P3D
REFRESH-INTERVAL:P3D
CALSCALE:GREGORIAN
BEGIN:VEVENT
DTSTART:20240610T170000Z
DTEND:20240610T180000Z
X-MICROSOFT-CDO-ALLDAYEVENT:FALSE
SUMMARY:2024 Corporate Charity Cup: Team Captain Meeting
DESCRIPTION:Calling All Team Captains!\n\n\n\nAt this important meeting you will pick up your team T-shirts and we'll go over the final details for the event.\n\n\n\nPlease register to attend and contact the Chamber with any questions.
X-ALT-DESC;FMTTYPE=text/html:<p><br />\n<span style="font-size:16px\;"><span style="font-family:arial\;"><strong>Calling All Team Captains!</strong><br />\n<br />\nAt this important meeting you will pick up your team T-shirts and we&#39\;ll go over the final details for the event.<br />\n<br />\nPlease register to attend and contact the Chamber with any questions.</span></span></p>\n&nbsp\;\n\n<p style="box-sizing: border-box\; margin-top: 0px\; margin-bottom: 1rem\; font-family: Cambay\, sans-serif\; font-size: 16px\;">&nbsp\;</p>\n
LOCATION:Dublin Chamber of Commerce 129 S. High St. Dublin\, OH 43017
UID:e.1632.11170
SEQUENCE:3
DTSTAMP:20260422T121230Z
URL:https://www.dublinchamber.org/events/details/2024-corporate-charity-cup-team-captain-meeting-11170
END:VEVENT

END:VCALENDAR
